BEGIN:VCALENDAR
VERSION:2.0
PRODID:-//The New Jersey Council on Developmental Disabilities - ECPv6.15.20//NONSGML v1.0//EN
CALSCALE:GREGORIAN
METHOD:PUBLISH
X-WR-CALNAME:The New Jersey Council on Developmental Disabilities
X-ORIGINAL-URL:https://njcdd.org
X-WR-CALDESC:Events for The New Jersey Council on Developmental Disabilities
REFRESH-INTERVAL;VALUE=DURATION:PT1H
X-Robots-Tag:noindex
X-PUBLISHED-TTL:PT1H
BEGIN:VTIMEZONE
TZID:America/New_York
BEGIN:DAYLIGHT
TZOFFSETFROM:-0500
TZOFFSETTO:-0400
TZNAME:EDT
DTSTART:20250309T070000
END:DAYLIGHT
BEGIN:STANDARD
TZOFFSETFROM:-0400
TZOFFSETTO:-0500
TZNAME:EST
DTSTART:20251102T060000
END:STANDARD
BEGIN:DAYLIGHT
TZOFFSETFROM:-0500
TZOFFSETTO:-0400
TZNAME:EDT
DTSTART:20260308T070000
END:DAYLIGHT
BEGIN:STANDARD
TZOFFSETFROM:-0400
TZOFFSETTO:-0500
TZNAME:EST
DTSTART:20261101T060000
END:STANDARD
BEGIN:DAYLIGHT
TZOFFSETFROM:-0500
TZOFFSETTO:-0400
TZNAME:EDT
DTSTART:20270314T070000
END:DAYLIGHT
BEGIN:STANDARD
TZOFFSETFROM:-0400
TZOFFSETTO:-0500
TZNAME:EST
DTSTART:20271107T060000
END:STANDARD
END:VTIMEZONE
BEGIN:VEVENT
DTSTART;TZID=America/New_York:20260127T120000
DTEND;TZID=America/New_York:20260127T130000
DTSTAMP:20260421T133452
CREATED:20260108T142712Z
LAST-MODIFIED:20260126T220542Z
UID:66362-1769515200-1769518800@njcdd.org
SUMMARY:“Employment First” in New Jersey
DESCRIPTION:Listen\n        \n        [vc_row][vc_column][vc_column_text css=””]\n\n[/vc_column_text][vc_column_text css=”.vc_custom_1767896805443{padding-top: 15px !important;}”]\n“Employment First” in New Jersey\nTuesday\, January 27\, 2026\n12:00pm – 1:00pm (Zoom Webinar)\n[/vc_column_text]Register Here[vc_column_text css=”.vc_custom_1769465136697{padding-top: 15px !important;}”]”Employment First” is a national approach and policy framework that prioritizes competitive\, integrated jobs with fair wages as the primary option for individuals with disabilities. Employment First shifts the focus from segregated settings to community employment\, aiming to raise expectations and change systems\, so that all individuals can engage in meaningful work.\n\nAlthough New Jersey is one of 42 states with the Employment First designation\, barriers persist\, including low participation\, a lack of confidence in the capabilities of individuals with I/DD\, and siloed systems with insufficient cross-agency partnerships. During the webinar\, we will examine a bill to create an Employment First commission in New Jersey and highlight other Employment First initiatives from across the country. Assemblyman Louis D. Greenwald\, Caucus Co-Chair\, will lead the webinar.[/vc_column_text][/vc_column][/vc_row]
URL:https://njcdd.org/event/employment-first-in-new-jersey/
LOCATION:Zoom
END:VEVENT
BEGIN:VEVENT
DTSTART;TZID=America/New_York:20260202T183000
DTEND;TZID=America/New_York:20260202T203000
DTSTAMP:20260421T133452
CREATED:20260121T173733Z
LAST-MODIFIED:20260121T174632Z
UID:66489-1770057000-1770064200@njcdd.org
SUMMARY:Investigating Abuse & Neglect of People with I/DD
DESCRIPTION:Listen\n        \n        [vc_row][vc_column][vc_column_text][/vc_column_text][/vc_column][/vc_row][vc_row css=”.vc_custom_1769017126093{padding-top: 25px !important;}”][vc_column][vc_column_text css=””]\nA WEBINAR FOR FAMILIES AND CAREGIVERS OF INDIVIDUALS WITH INTELLECTUAL AND OR DEVELOPMENTAL DISABILITIES (I/DD)\n[/vc_column_text][vc_separator color=”black” css=”.vc_custom_1769017325805{padding-top: 10px !important;}”][/vc_column][/vc_row][vc_row css=”.vc_custom_1769017206841{padding-top: 25px !important;}”][vc_column width=”1/2″][vc_column_text css=””]ABOUT DISABILITY RIGHTS NEW JERSEY\nDisability Rights New Jersey\, also known as DRNJ\, serves as the state’s designated Protection & Advocacy (P&A) agency\, responsible for safeguarding the rights\, safety\, and well‑being of all individuals with disabilities\, including those with intellectual and developmental disabilities (I/DD).[/vc_column_text]Register Here[/vc_column][vc_column width=”1/2″][vc_column_text css=””]WHAT YOU WILL LEARN\nThis webinar will provide an in‑depth look at how Disability Rights New Jersey\, as the P&A\, identifies and investigates allegations of abuse\, neglect\, and rights violations in licensed settings.\n\nParticipants will gain a deeper understanding of Disability Rights New Jersey’s investigative authority\, including their unique role and mission in monitoring investigative bodies to enhance safety and protect vulnerable individuals.[/vc_column_text][/vc_column][/vc_row][vc_row css=”.vc_custom_1769017558529{padding-top: 10px !important;}”][vc_column][vc_separator color=”black” style=”dashed” css=”.vc_custom_1769017511348{padding-top: 10px !important;}”][/vc_column][/vc_row][vc_row css=”.vc_custom_1769017545930{padding-top: 10px !important;}”][vc_column width=”1/2″][vc_column_text css=”.vc_custom_1769017299212{padding-top: 15px !important;}”]SPEAKERS:\n\n 	Jill Hoegel\, Director of Investigations and Monitoring\n 	Lynne Blecher-Vicari\, Advocate-Investigator\n 	Elena Kravitz\, Senior Advocate-Investigator\n 	Barbara Coppens\, Advocate Assistant\n\n[/vc_column_text][/vc_column][vc_column width=”1/2″ css=”.vc_custom_1769017589427{padding-top: 15px !important;}”][vc_column_text css=”.vc_custom_1769017149433{padding-top: 15px !important;}”]Real-time multi-lingual closed captioning will be offered in this session.\n\nFor questions\, please contact Kyoko Coco\, Kyoko.Coco@njcdd.org\, 609-341-3112[/vc_column_text][/vc_column][/vc_row]
URL:https://njcdd.org/event/investigating-abuse-neglect-of-people-with-i-dd/
LOCATION:Zoom
END:VEVENT
BEGIN:VEVENT
DTSTART;TZID=America/New_York:20260228T093000
DTEND;TZID=America/New_York:20260228T110000
DTSTAMP:20260421T133452
CREATED:20260204T161852Z
LAST-MODIFIED:20260204T184312Z
UID:66634-1772271000-1772276400@njcdd.org
SUMMARY:Transition from Early Intervention Program to Pre-School System
DESCRIPTION:Listen\n        \n        [vc_row][vc_column][vc_column_text][/vc_column_text][/vc_column][/vc_row][vc_row css=”.vc_custom_1770221800501{padding-top: 15px !important;}”][vc_column width=”1/2″][vc_column_text css=””]Making the move from the Early Intervention Program to the Pre‑Kindergarten school system can feel overwhelming for many families. As a family advocacy group\, the Regional Family Support Planning Councils understand how challenging it can be to learn a new system\, navigate the Individualized Education Program (IEP) process\, and step into a stronger advocacy role[/vc_column_text][vc_row_inner][vc_column_inner]Register HereDownload Flyer[/vc_column_inner][/vc_row_inner][vc_column_text css=”.vc_custom_1770222183056{padding-top: 15px !important;}”]This webinar will guide families through what it means to be an effective advocate\, how to take a child‑centered approach\, and how to build a collaborative relationship with the Child Study Team. We’ll walk through the IEP process\, discuss what to expect\, and share practical strategies to help you prepare confidently for your child’s IEP meeting.\n\nMulti-lingual closed captioning is available for this webinar.\n\nFor questions\, please contact Kyoko Coco\, Kyoko.Coco@njcdd.org\, 609-341-3112.[/vc_column_text][/vc_column][vc_column width=”1/2″][vc_column_text css=””]La transición del Programa de Intervención Temprana al sistema escolar de preescolar puede resultar abrumadora para muchas familias. Como grupo de apoyo familiar\, los Consejos Regionales de Planificación de Apoyo Familiar comprenden lo difícil que puede ser familiarizarse con un nuevo sistema\, navegar el proceso del Programa de Educación Individualizada (IEP) y asumir un rol de defensa más activo.[/vc_column_text][vc_row_inner][vc_column_inner]Regístrate AquíDescargar Folleto[/vc_column_inner][/vc_row_inner][vc_column_text css=”.vc_custom_1770222192501{padding-top: 15px !important;}”]Este seminario web guiará a las familias para que comprendan qué significa ser un defensor eficaz\, cómo adoptar un enfoque centrado en el niño y cómo construir una relación de colaboración con el Equipo de Estudio del Niño. Analizaremos el proceso del IEP\, hablaremos sobre qué esperar y compartiremos estrategias prácticas para que se preparen con confianza para la reunión del IEP de su hijo.\n\nEste seminario web cuenta con subtítulos en varios idiomas.\n\nPara cualquier pregunta\, comuníquese con Kyoko Coco\, Kyoko.Coco@njcdd.org\, 609-341-3112.[/vc_column_text][/vc_column][/vc_row]
URL:https://njcdd.org/event/transition-from-early-intervention-program-to-pre-school-system/
END:VEVENT
BEGIN:VEVENT
DTSTART;TZID=America/New_York:20260312T093000
DTEND;TZID=America/New_York:20260312T133000
DTSTAMP:20260421T133452
CREATED:20251202T170719Z
LAST-MODIFIED:20260202T183556Z
UID:66181-1773307800-1773322200@njcdd.org
SUMMARY:NJCDD Public Meeting-March 12
DESCRIPTION:Listen\n        \n        [vc_row][vc_column][vc_column_text css=””][/vc_column_text][/vc_column][/vc_row][vc_row css=”.vc_custom_1760556111820{padding-top: 15px !important;}”][vc_column width=”1/2″][vc_column_text css=””]\nNJCDD Hybrid Public Meeting\n[/vc_column_text][vc_column_text css=””]March 12\, 2026 | 9:30 AM – 1:30 PM\n\nThe New Jersey Council on Developmental Disabilities (NJCDD) Hybrid Public Meeting will be held on Thursday\, March 12\, 2026\, from 9:30 am to 1:30 pm at the Hilton Garden Inn\, located at 800 US Route 130 in Hamilton\, NJ.\n\nTo make a public comment\, please send your written public comments to Jacinta.Williams@njcdd.org by Wednesday\, March 11\, 2026.[/vc_column_text]Register Here[vc_column_text css=”.vc_custom_1764609915473{padding-top: 15px !important;}”]Accommodation:\nFor in-person accommodations\, language interpretation\, and/or other accommodations\, please contact Jacinta Williams at Jacinta.Williams@njcdd.org with your specific accommodation request at least two weeks in advance or by Wednesday\, February 25\, 2026.[/vc_column_text][/vc_column][vc_column width=”1/2″][vc_column_text css=””]\nReunión Pública Híbrida de NJCDD\n[/vc_column_text][vc_column_text css=””]12 de Marzo de 2026 | 9:30 AM – 1:30 PM\n\nLa Reunión Pública Híbrida del Consejo de Discapacidades del Desarrollo de Nueva Jersey (NJCDD) se llevará a cabo el Jueves 12 de Marzo de 2026\, de 9:30 a.m. a 1:30 p.m.\, en el Hilton Garden Inn\, 800 US Route 130\, Hamilton\, NJ.\n\nPara hacer un comentario público\, por favor envíe sus comentarios públicos por escrito a Jacinta.Williams@njcdd.org antes del miércoles\,11 de marzo de 2026.[/vc_column_text]Regístrate Aquí[vc_column_text css=”.vc_custom_1764610410904{padding-top: 15px !important;}”]Alojamiento:\nPara alojamientos en persona\, interpretación de idiomas y/o otros ajustes\, comuníquese con Jacinta Williams en Jacinta.Williams@njcdd.org con su solicitud específica de alojamiento al menos con dos semanas de anticipación o antes del Miércoles 25 de Febrero de 2026.[/vc_column_text][/vc_column][/vc_row]
URL:https://njcdd.org/event/njcdd-public-meeting-march-12/
END:VEVENT
BEGIN:VEVENT
DTSTART;TZID=America/New_York:20260505T120000
DTEND;TZID=America/New_York:20260505T130000
DTSTAMP:20260421T133452
CREATED:20260417T165617Z
LAST-MODIFIED:20260420T161824Z
UID:66943-1777982400-1777986000@njcdd.org
SUMMARY:Continuity of Care & Service Gaps Within Disability Systems
DESCRIPTION:Listen\n        \n        [vc_row][vc_column][vc_column_text css=””][/vc_column_text][vc_column_text css=”.vc_custom_1776445195817{padding-top: 15px !important;}”]\nContinuity of Care & Service Gaps within Disability Systems\nTuesday\, May 5\, 2026\n12:00pm – 1:00pm (Zoom Webinar)\n[/vc_column_text]Register Here[vc_column_text css=”.vc_custom_1776701781752{padding-top: 15px !important;}”]The discussion will examine capacity and service gaps within disability service systems.\nWorkforce shortages disrupt care across all disability programs. The DHS Direct Care Workforce Strategic Plan—developed with Labor\, DCF\, Education\, Consumer Affairs\, and higher education partners—offers 40+ data-driven strategies to address the crisis and will serve as a framework for additional Caucus discussion.\nAssemblywoman Aura K. Dunn\, Caucus Co-Chair\, will lead the discussion.\nAbout the Caucus\nSince 2020\, the New Jersey Legislative Disability Caucus has served as a bipartisan forum within the New Jersey Legislature for lawmakers and their staff to consider the impact on the disability community when shaping ALL public policies in the Garden State through increased awareness and a greater understanding of the complexities of the disabilities service system and issues affecting individuals with disabilities and their families.[/vc_column_text][/vc_column][/vc_row]
URL:https://njcdd.org/event/continuity-of-care-service-gaps-within-disability-systems/
LOCATION:Zoom
END:VEVENT
BEGIN:VEVENT
DTSTART;TZID=America/New_York:20260513T183000
DTEND;TZID=America/New_York:20260513T200000
DTSTAMP:20260421T133452
CREATED:20260420T142237Z
LAST-MODIFIED:20260420T142949Z
UID:66954-1778697000-1778702400@njcdd.org
SUMMARY:From First Steps to School Success Understanding the Individualized Education Program (IEP)
DESCRIPTION:Listen\n        \n        [vc_row][vc_column][vc_column_text css=””][/vc_column_text][/vc_column][/vc_row][vc_row css=”.vc_custom_1770221800501{padding-top: 15px !important;}”][vc_column width=”1/2″][vc_column_text css=””]Navigating the Individualized Education Program (IEP) can feel overwhelming\, especially for families just beginning their journey in early childhood or elementary education. This presentation is designed to break down the IEP process into clear\, manageable steps so you can feel confident advocating for your child.\n\nTogether\, we will explore the key components of an IEP and what each section means for your child’s education. The session will also focus on how to take a person-centered approach\, ensuring the plan reflects your child’s unique strengths\, needs\, and goals rather than a one-size-fits-all model.[/vc_column_text]Register Here[vc_column_text css=”.vc_custom_1776694718308{padding-top: 25px !important;}”]In addition\, we will discuss practical strategies for:\n\n 	Identifying and requesting appropriate services and supports\n 	Understanding how goals are developed and measured\n 	Ensuring progress monitoring is meaningful and aligned with your child’s needs\n 	Communicating effectively with your child’s IEP team\n\nWhether you are new to the IEP process or looking to strengthen your advocacy skills\, this session will provide useful tools\, real-life examples\, and guidance to help you support your child’s path to school success.\n\nMulti-lingual closed captioning will be available. For more information\, please contact Kerry McGrath at kerry.mcgrath@njcdd.org or 609-984-4516.[/vc_column_text][vc_row_inner][vc_column_inner]Download Flyer[/vc_column_inner][/vc_row_inner][/vc_column][vc_column width=”1/2″][vc_column_text css=””]Navegar por el Programa de Educación Individualizada (IEP) puede resultar abrumador\, especialmente para las familias que recién comienzan su camino en la educación infantil o primaria. Esta presentación está diseñada para desglosar el proceso del IEP en pasos claros y manejables para que usted se sienta seguro al defender los derechos de su hijo.\n\nJuntos\, exploraremos los componentes clave de un PEI y lo que cada sección significa para la educación de su hijo. La sesión también se centrará en cómo adoptar un enfoque centrado en la persona\, asegurando que el plan refleje las fortalezas\, necesidades y metas únicas de su hijo\, en lugar de un modelo único para todos.[/vc_column_text]Regístrate Aquí[vc_column_text css=”.vc_custom_1776695021618{padding-top: 15px !important;}”]Además\, hablaremos sobre estrategias prácticas para:\n\n 	Identificar y solicitar los servicios y apoyos adecuados\n 	Comprender cómo se desarrollan y miden las metas\n 	Asegurar que el seguimiento del progreso sea significativo y esté alineado con las necesidades de su hijo\n 	Comunicarse eficazmente con el equipo del PEI de su hijo\n\nYa sea que sea nuevo en el proceso del PEI o que desee fortalecer sus habilidades de defensa\, esta sesión le brindará herramientas útiles\, ejemplos de la vida real y orientación para ayudarlo a apoyar el camino de su hijo hacia el éxito escolar.\n\nSe ofrecerán subtítulos en varios idiomas. Para más información\, comuníquese con Kerry McGrath al correo electrónico kerry.mcgrath@njcdd.org o al teléfono 609-984-4516.[/vc_column_text][vc_row_inner][vc_column_inner]Descargar Folleto[/vc_column_inner][/vc_row_inner][/vc_column][/vc_row]
URL:https://njcdd.org/event/from-first-steps-to-school-success-understanding-the-individualized-education-program-iep/
LOCATION:Zoom
END:VEVENT
BEGIN:VEVENT
DTSTART;TZID=America/New_York:20260514T093000
DTEND;TZID=America/New_York:20260514T133000
DTSTAMP:20260421T133452
CREATED:20251201T172809Z
LAST-MODIFIED:20260420T163423Z
UID:66159-1778751000-1778765400@njcdd.org
SUMMARY:NJCDD Public Meeting-May 14
DESCRIPTION:Listen\n        \n        [vc_row][vc_column][vc_column_text css=””][/vc_column_text][/vc_column][/vc_row][vc_row css=”.vc_custom_1760556111820{padding-top: 15px !important;}”][vc_column width=”1/2″][vc_column_text css=””]\nNJCDD Hybrid Public Meeting\n[/vc_column_text][vc_column_text css=””]May 14\, 2026 | 9:30 AM – 1:30 PM\n\nThe New Jersey Council on Developmental Disabilities (NJCDD) Hybrid Public Meeting will be held on Thursday\, May 14\, 2026\, from 9:30 am to 1:30 pm at the Hilton Garden Inn\, located at 800 US Route 130 in Hamilton\, NJ. To make a public comment\, please send your written comment to Jacinta.williams@njcdd.org by Wednesday\, May 13\, 2026.\n\nDuring the meeting\, Amy Deaville\, Training and Technical Assistance Administrator at the Information and Technical Assistance Center for Councils (ITACC)\, will present on the Federal DD Act overview and the role of Councils. Additionally\, Brenda Considine\, consultant\, will present an update on the status of the community blueprint. [/vc_column_text]Register Here[vc_column_text css=”.vc_custom_1764694899430{padding-top: 15px !important;}”]Accommodation:\nFor in-person accommodations\, language interpretation\, and/or other accommodations\, please contact Jacinta Williams at Jacinta.Williams@njcdd.org with your specific accommodation request at least two weeks in advance or by Thursday\, April 30\, 2026.[/vc_column_text]View the Agenda Here[/vc_column][vc_column width=”1/2″][vc_column_text css=””]\nReunión Pública Híbrida de NJCDD\n[/vc_column_text][vc_column_text css=””]14 de Mayo de 2026 | 9:30 AM – 1:30 PM\n\nLa Reunión Pública Híbrida del Consejo de Discapacidades del Desarrollo de Nueva Jersey (NJCDD) se llevará a cabo el Jueves 14 de Mayo de 2026\, de 9:30 a.m. a 1:30 p.m.\, en el Hilton Garden Inn\, 800 US Route 130\, Hamilton\, NJ. Para realizar un comentario público\, por favor envíe su comentario por escrito a Jacinta.williams@njcdd.org a más tardar el miércoles 13 de mayo de 2026.\n\nDurante la reunión\, Amy Deaville\, Administradora de Capacitación y Asistencia Técnica en el Centro de Información y Asistencia Técnica para Consejos (ITACC)\, presentará una descripción general de la Ley Federal de DD y el papel de los Consejos. Además\, Brenda Considine\, consultora\, presentará una actualización sobre el estado del plan comunitario.[/vc_column_text]Regístrate Aquí[vc_column_text css=”.vc_custom_1764695123813{padding-top: 15px !important;}”]Alojamiento:\nPara alojamientos en persona\, interpretación de idiomas y/o otros ajustes\, comuníquese con Jacinta Williams en Jacinta.Williams@njcdd.org con su solicitud específica de alojamiento al menos con dos semanas de anticipación o antes del Jueves 30 de Abril de 2026.[/vc_column_text]Ver la Agenda Aquí[/vc_column][/vc_row]
URL:https://njcdd.org/event/public-meeting-may-14/
LOCATION:Hilton Garden Inn Hamilton 800 US-130\, Hamilton Township\, NJ 08690\, 800 US-130\, Hamilton Township\,\, 08690\, United States
END:VEVENT
BEGIN:VEVENT
DTSTART;TZID=America/New_York:20260514T183000
DTEND;TZID=America/New_York:20260514T183000
DTSTAMP:20260421T133452
CREATED:20260414T175231Z
LAST-MODIFIED:20260420T142756Z
UID:66908-1778783400-1778783400@njcdd.org
SUMMARY:Securing the Future of the Direct Support Professional Workforce
DESCRIPTION:Listen\n        \n        [vc_row][vc_column][vc_column_text css=””][/vc_column_text][/vc_column][/vc_row][vc_row css=”.vc_custom_1770221800501{padding-top: 15px !important;}”][vc_column width=”1/2″][vc_column_text css=””]Regional Family Support Planning Council #6 (Monmouth and Ocean) is interested in supporting the workforce development of Direct Support Professionals (DSPs). We know how important DSPs are to the people and families we care about. To help us learn more\, we are excited to welcome Joseph MacBeth from the National Alliance for Direct Support Professionals.\n\nMr. Macbeth will share simple\, practical ideas on how we can support DSPs\, keep great staff\, and bring new people into the field. He will also talk about training\, onboarding\, and ways to create real career paths that help DSPs grow and stay in the work they love.[/vc_column_text]Register Here[vc_column_text css=”.vc_custom_1776189310626{padding-top: 25px !important;}”]This session is a chance for family members to come together and learn how we can help build a stable\, skilled\, and supported DSP workforce for today and the future.\n\nMulti-lingual closed captioning will be available. For more information\, contact kerry.mcgrath@njcdd.org.[/vc_column_text][vc_row_inner][vc_column_inner]Download Flyer[/vc_column_inner][/vc_row_inner][/vc_column][vc_column width=”1/2″][vc_column_text css=””]El Consejo Regional de Planificación de Apoyo Familiar #6 (Monmouth and Ocean) está interesado en apoyar el desarrollo de la fuerza laboral de profesionales de apoyo directo (DSP). Sabemos lo importante que son los DSPs para las personas y familias que nos importan. Para ayudarnos a aprender más\, estamos muy contentos de dar la bienvenida a Joseph Macbeth de la Alianza Nacional para Profesionales de Apoyo Directo.\n\nJoseph compartirá ideas simples y prácticas sobre cómo podemos apoyar a los DSP\, mantener un gran personal y atraer a nuevas personas al campo. También hablará sobre capacitación\, incorporación y formas de crear carreras reales que ayuden a los DSPs a crecer y mantenerse en el trabajo que aman.[/vc_column_text]Register Here[vc_row_inner][vc_column_inner][/vc_column_inner][/vc_row_inner][vc_column_text css=”.vc_custom_1776189129669{padding-top: 15px !important;}”]Esta sesión es una oportunidad para que los miembros de la familia se reúnan y aprendan cómo podemos ayudar a construir una fuerza laboral de DSP estable\, capacitada y apoyada para hoy y el futuro.\nSe dispondrá de subtítulos cerrados multilingües.\n\nPara obtener más información\, comuníquese con kerry.mcgrath-njcdd.org.[/vc_column_text]Descargar Folleto[/vc_column][/vc_row]
URL:https://njcdd.org/event/securing-the-future-of-the-direct-support-professional-workforce/
LOCATION:Zoom
END:VEVENT
END:VCALENDAR