BEGIN:VCALENDAR
VERSION:2.0
PRODID:-//The New Jersey Council on Developmental Disabilities - ECPv6.15.20//NONSGML v1.0//EN
CALSCALE:GREGORIAN
METHOD:PUBLISH
X-WR-CALNAME:The New Jersey Council on Developmental Disabilities
X-ORIGINAL-URL:https://njcdd.org
X-WR-CALDESC:Events for The New Jersey Council on Developmental Disabilities
REFRESH-INTERVAL;VALUE=DURATION:PT1H
X-Robots-Tag:noindex
X-PUBLISHED-TTL:PT1H
BEGIN:VTIMEZONE
TZID:America/New_York
BEGIN:DAYLIGHT
TZOFFSETFROM:-0500
TZOFFSETTO:-0400
TZNAME:EDT
DTSTART:20240310T070000
END:DAYLIGHT
BEGIN:STANDARD
TZOFFSETFROM:-0400
TZOFFSETTO:-0500
TZNAME:EST
DTSTART:20241103T060000
END:STANDARD
BEGIN:DAYLIGHT
TZOFFSETFROM:-0500
TZOFFSETTO:-0400
TZNAME:EDT
DTSTART:20250309T070000
END:DAYLIGHT
BEGIN:STANDARD
TZOFFSETFROM:-0400
TZOFFSETTO:-0500
TZNAME:EST
DTSTART:20251102T060000
END:STANDARD
BEGIN:DAYLIGHT
TZOFFSETFROM:-0500
TZOFFSETTO:-0400
TZNAME:EDT
DTSTART:20260308T070000
END:DAYLIGHT
BEGIN:STANDARD
TZOFFSETFROM:-0400
TZOFFSETTO:-0500
TZNAME:EST
DTSTART:20261101T060000
END:STANDARD
END:VTIMEZONE
BEGIN:VEVENT
DTSTART;TZID=America/New_York:20250313T093000
DTEND;TZID=America/New_York:20250313T133000
DTSTAMP:20260424T181124
CREATED:20250310T140714Z
LAST-MODIFIED:20250310T150535Z
UID:64434-1741858200-1741872600@njcdd.org
SUMMARY:NJCDD Public Meeting
DESCRIPTION:Listen\n        \n        [vc_row][vc_column][vc_column_text css=””][/vc_column_text][/vc_column][/vc_row][vc_row][vc_column width=”1/2″][vc_column_text css=””]\nNotice of 1st  Quarter Meeting\nThe New Jersey Council on Developmental Disabilities (NJCDD) In Person Hybrid Public Meeting will be held on Thursday March 13\, 2024 from 9:30am to 1:30pm at the Hilton Garden Inn\, 800 US Route 130\, Hamilton NJ. To attend in person or make a public comment\, please submit your In-Person RSVP or written public comment to Jacinta.williams@njcdd.org by Wednesday March 12\, 2025.\n\nView the agenda[/vc_column_text]Register Here[/vc_column][vc_column width=”1/2″][vc_column_text css=””]\nAviso de la Reunión  del 1er  Trimestre\nLa reunión pública híbrida presencial del Consejo de Discapacidades del Desarrollo de Nueva Jersey (NJCDD) se llevará a cabo el jueves 13 de marzo de 2024 de 9:30 a. m. a 1:30 p. m. en el Hilton Garden Inn\, 800 US Route 130\, Hamilton NJ. Para asistir en persona o hacer un comentario público\, envíe su confirmación de asistencia en persona o comentarios públicos por escrito a Jacinta.williams@njcdd.org antes del miércoles 12 de marzo de 2025.\n\nVer la agenda [/vc_column_text]Regístrese Aquí[/vc_column][/vc_row]
URL:https://njcdd.org/event/njcdd-public-meeting-5/
LOCATION:Hilton Garden Inn Hamilton 800 US-130\, Hamilton Township\, NJ 08690\, 800 US-130\, Hamilton Township\,\, 08690\, United States
END:VEVENT
END:VCALENDAR